BEGIN:VCALENDAR
VERSION:2.0
PRODID:https://github.com/derhansen/sf_event_mgt
METHOD:PUBLISH
BEGIN:VEVENT
UID:1472-690@mein.wieselburg.at
CLASS: PUBLIC
SUMMARY:WIR4 - Das Beste von Austria 3
DESCRIPTION:Vier hervorragende und mehrfach ausgezeichnete Musiker, die Mus
 ik "handmade" spielen, wienerische und hochdeutsche Texte schreiben:\n\n 	
 Ulli Bäer | guit, voc 	Gary Lux | keyboard, voc 	Harald Fendrich | bass, 
 voc 	Harry Stampfer | drums \n\n“Zwickt’s mi, i man, i tram” – jet
 zt kommt die Originalband von AUSTRIA 3 – bekannt als “WIR4”, und ha
 t den Spaß und die Lebensfreude des Austropop mit im Gepäck. Ihre unverg
 esslichen Hits wie “I am from Austria”, “Da Hofa” oder “Jö Scha
 u” halten “Für immer Jung” und erleben gerade so etwas wie eine Wie
 derauferstehung, aber nicht am “Zentralfriedhof” sondern vor allem liv
 e auf der Bühne!\n\nHier können Sie Tickets bestellen!
LOCATION:Schlosspark
DTSTAMP:20260421T112356Z
DTSTART:20260801T173000Z
END:VEVENT
END:VCALENDAR