BEGIN:VCALENDAR
VERSION:2.0
PRODID:https://github.com/derhansen/sf_event_mgt
METHOD:PUBLISH
BEGIN:VEVENT
UID:1383-690@mein.wieselburg.at
CLASS: PUBLIC
SUMMARY:Messeflohmarkt
DESCRIPTION:Samstag, 15. August - 8.00 bis 16.00 Uhr Sonntag, 16. August - 
 8.00 bis 14.00 Uhr
LOCATION:Messegelände Wieselburg - Landwirt-Halle (Halle 12)
DTSTAMP:20260128T151420Z
DTSTART:20260815T060000Z
DTEND:20260816T120000Z
END:VEVENT
END:VCALENDAR