BEGIN:VCALENDAR
VERSION:2.0
PRODID:https://github.com/derhansen/sf_event_mgt
METHOD:PUBLISH
BEGIN:VEVENT
UID:984-690@mein.wieselburg.at
CLASS: PUBLIC
SUMMARY:INSIEME - La notte italiana
DESCRIPTION:INSIEME kehrt am 31. Juli 2026 zurück nach Wieselburg - das ne
 ue Programm wartet und macht garantiert Lust auf den nächsten Italienurla
 ub. INSIEME – das sind Monika Ballwein, Christian Deix, der mexikanische
  Tenor Rene Velazquez-Diaz und der Italiener Pietro Erik Arno – unschlag
 bar, wenn sie die Hits der Italo Pop-Szene, aber nicht nur diese, in einer
  außergewöhnlich unterhaltsamen Show zum Besten geben. Gemeinsam mit ihr
 er exzellenten Begleitband „Die Fabelhaften Pizza-Boys“ präsentieren 
 INSIEME Italo Pop Non Stop. Der musikalische Bogen ihrer mitreißenden Sho
 w „La notte italiana“ spannt sich von Al Bano bis Adriano Celentano, v
 on Laura Pausini bis Gianna Nannini und von Eros Ramazzotti bis zu Opernar
 ien-Hits von Luciano Pavarotti. Jeder Song zum Mitsingen, jeder Song einfa
 ch ein Hit: Von Volare bis Azzurro, von Insieme bis Gloria, von Piccola e 
 fragile bis Gente di mare u. v. m.\n\nHier können Sie Tickets bestellen!
LOCATION:Schlosspark
DTSTAMP:20260421T111948Z
DTSTART:20260731T173000Z
END:VEVENT
END:VCALENDAR