BEGIN:VCALENDAR
VERSION:2.0
PRODID:https://github.com/derhansen/sf_event_mgt
METHOD:PUBLISH
BEGIN:VEVENT
UID:94-690@mein.wieselburg.at
CLASS: PUBLIC
SUMMARY:Hl. Messe mit den Jubelpaaren
DESCRIPTION:
LOCATION:Pfarrkirche Wieselburg
DTSTAMP:20251121T072333Z
DTSTART:20261011T073000Z
END:VEVENT
END:VCALENDAR