BEGIN:VCALENDAR
VERSION:2.0
PRODID:https://github.com/derhansen/sf_event_mgt
METHOD:PUBLISH
BEGIN:VEVENT
UID:1851-690@mein.wieselburg.at
CLASS: PUBLIC
SUMMARY:Hip Bag Workshop
DESCRIPTION:ORTOVOX und AUTBÃ„CK - "WORN TO BE ALIVE TOUR"\n\nDesigne deine
  eigene ORTOVOX Hip Bag aus Leftover-Materialien â€“ auf der WORN TO BE AL
 IVE TOUR!Â \n\nNÃ¤chster Stopp: Direkt bei uns im Shop in Wieselburg!Â \n\
 n30.4.2026Â  2 Terminen zur Auswahl: 15.00 Uhr bzw. 17.00 UhrÂ  Anmeldung 
 unter: www.autbaeck.at oder bei uns im Shop! https://autbaeck.at/hipbag-wo
 rkshop/\n\nBei den Workshops hast du die Chance, hochwertigen ORTOVOX-Rest
 materialien ein zweites Leben zu schenken. Und dabei auch noch dein ganz p
 ersÃ¶nliches Unikat zu erschaffen. Schnapp dir dein Material und leg los!\
 n\nWie lange? Ca. 1 Stunde Teilnehmerzahl: Max. 10 Personen pro Workshop-S
 lot Kosten: EUR 15,00\n\nWann kannst du deine Bag bei uns abholen? Ca. 3â€
 “4 Wochen nach dem Workshop â€“ professionell fertiggestellt in einer ausg
 ewÃ¤hlten ORTOVOX-ProduktionsstÃ¤tte\n\n\n\n
LOCATION:AutbÃ¤ck Wieselburg
DTSTAMP:20260423T131619Z
DTSTART:20260430T130000Z
END:VEVENT
END:VCALENDAR