BEGIN:VCALENDAR
VERSION:2.0
PRODID:https://github.com/derhansen/sf_event_mgt
METHOD:PUBLISH
BEGIN:VEVENT
UID:698-690@mein.wieselburg.at
CLASS: PUBLIC
SUMMARY:Frühschoppen am 1. Mai
DESCRIPTION:
LOCATION:Zwiesel-Platz bei den Winzern
DTSTAMP:20260423T062913Z
DTSTART:20260501T073000Z
END:VEVENT
END:VCALENDAR