BEGIN:VCALENDAR
VERSION:2.0
PRODID:https://github.com/derhansen/sf_event_mgt
METHOD:PUBLISH
BEGIN:VEVENT
UID:1849-690@mein.wieselburg.at
CLASS: PUBLIC
SUMMARY:Culto - Re-Opening!
DESCRIPTION:Seit dem 3. März ist das neue CULTO geöffnet und erfreut sich
  großer Beliebtheit. Jetzt wird’s draußen wärmer und wir feiern unse
 r Re-Opening!\n\nAm Mittwoch, den 6. Mai von 15.00 bis 19.00 Uhr\n\nLernen
  Sie bei der GRATIS-Verkostung unser neues Mini-Grilltrio kennen. Frisch v
 om Griller kommt vielleicht auch noch das eine oder andere weitere Schmank
 erl. Getränke um EUR 1,00 – Mineralwasser 0,5 l - Eistee 0,5 l – Kais
 er Bier 0,33 l – Weißwein gespritzt 0,33 l\n\nWir freuen uns auf Ihren 
 Besuch und beraten Sie gerne. Erfahren Sie mehr über unseren neuen SB-Ber
 eich, unser Jausenangebot, unsere Heiße Theke und unser umfangreiches So
 rtiment an Tiernahrung.
LOCATION:CULTO Moser
DTSTAMP:20260421T110642Z
DTSTART:20260506T130000Z
DTEND:20260506T170000Z
END:VEVENT
END:VCALENDAR