BEGIN:VCALENDAR
VERSION:2.0
PRODID:https://github.com/derhansen/sf_event_mgt
METHOD:PUBLISH
BEGIN:VEVENT
UID:1848-690@mein.wieselburg.at
CLASS: PUBLIC
SUMMARY:Blue Monday Night Band & Simon Plötzeneder
DESCRIPTION:Die BMN – Band (Blue Monday Night Band) steht seit Jahren fü
 r hochkarätige Live-Sessions und ist aus der Musikszene in Wieselburg nic
 ht mehr wegzudenken. Die erstklassige Rhythmusgruppe mit Klaus Zalud (Drum
 s), Johannes van Dam (Piano), Volker Wadauer (Bass) und Rupert Träxler (G
 itarre) prägt mit ihrer Spielfreude und musikalischen Vielseitigkeit die 
 legendären Blue Monday Sessions.\n\nAls Special Guest begrüßt die Band 
 den österreichischen Jazztrompeter, Komponisten und Arrangeur Simon Plöt
 zeneder. Plötzeneder, der neben seiner Konzerttätigkeit auch als engagie
 rter Pädagoge an der Musikschule Wieselburg wirkt, ist bekannt für seine
 n ausdrucksstarken Sound und seine stilistische Bandbreite zwischen tradit
 ionellem Jazz und modernen Fusion-Klängen. Seine musikalische Ausbildung 
 sowie zahlreiche nationale und internationale Projekte haben ihn zu einer 
 festen Größe der österreichischen Jazzszene gemacht.\n\nGemeinsam präs
 entieren sie am 16. Mai 2026 in der Alten Färberei in Wieselburg Plötzen
 eders aktuelle Kompositionen aus dem Album „Vienna Vibes“ – in einer
  energiegeladenen Fusion aus Jazz und Rock, inspiriert von Größen wie de
 n Brecker Brothers und Miles Davis.\n\nEin Konzertabend voller Spielfreude
 , Virtuosität und musikalischer Spannung ist garantiert.\n\nHier Eintritt
 skarten reservieren!
LOCATION:Färberei
DTSTAMP:20260420T130806Z
DTSTART:20260516T180000Z
END:VEVENT
END:VCALENDAR